BEGIN:VCALENDAR
VERSION:2.0
PRODID:-//CFBC - ECPv4.6.26//NONSGML v1.0//EN
CALSCALE:GREGORIAN
METHOD:PUBLISH
X-WR-CALNAME:CFBC
X-ORIGINAL-URL:https://cfbcradio.com
X-WR-CALDESC:Events for CFBC
BEGIN:VEVENT
DTSTART;TZID=America/Halifax:20250531T110000
DTEND;TZID=America/Halifax:20250531T150000
DTSTAMP:20260420T162529
CREATED:20250129T120632Z
LAST-MODIFIED:20250326T091349Z
UID:6659-1748689200-1748703600@cfbcradio.com
SUMMARY:Port City Beer Run - May 31
DESCRIPTION:\n2025 marks the 10th anniversary of the Port City Beer Run. \nEnjoy an easy 5KM run followed by a brew fest featuring\nbeer\, wine\, cider\, spirits and more\, from over 20 producers. \n\nYou’ll be welcomed at the finish line with cheers and beers\nfrom dozens of New Brunswick beer\, cider\, wine and spirit producers.\nJoin us at the Beer Fest and leave the running shoes at home.\nOnce again\, this year\, we’re offering Fan tickets.\nThis means that everyone is welcome to enjoy the festivities.You’ll start your day at 12PM at the finish line at the Marco Polo Cruise Terminal.\n \n\n
URL:https://cfbcradio.com/event/15759/
CATEGORIES:Community Events
ATTACH;FMTTYPE=image/jpeg:https://cfbcradio.com/wp-content/uploads/sites/22/2025/01/beer-run.jpg
END:VEVENT
END:VCALENDAR