BEGIN:VCALENDAR
VERSION:2.0
PRODID:-//CFBC - ECPv4.6.26//NONSGML v1.0//EN
CALSCALE:GREGORIAN
METHOD:PUBLISH
X-WR-CALNAME:CFBC
X-ORIGINAL-URL:https://cfbcradio.com
X-WR-CALDESC:Events for CFBC
BEGIN:VEVENT
DTSTART;TZID=America/Halifax:20251121T183000
DTEND;TZID=America/Halifax:20251121T213000
DTSTAMP:20260421T102040
CREATED:20251029T105349Z
LAST-MODIFIED:20251112T103249Z
UID:6895-1763749800-1763760600@cfbcradio.com
SUMMARY:A Sweet Night for Mental Health - Nov 21
DESCRIPTION:Just Us proudly presents A Sweet Night for Mental Health.\nFriday\, November 21\, 2025 at 6:30pm\, at the beautiful Lily Lake Pavilion in Saint John!\n\nJoin us for an unforgettable evening filled with sweet indulgence and meaningful impact. \nThis special night will feature: \n\n\n– Silent and live auctions (start the holiday shopping with us!)– A decadent dessert spread– A nostalgic candy bar– Live music\, guest speakers and more! \n\nTreat yourself to delicious confections\, enjoy lively entertainment\,\nand help strengthen mental health support across our province.Your attendance directly supports our mission to provide free and low-cost counselling services\nto individuals in Saint John\, Fredericton and virtually throughout New Brunswick.\nTickets are $110 each (plus website fees).\nEach ticket will receive a charitable tax receipt for $80.\nGet yours today! https://www.showpass.com/a-sweet-night-for-mental-health…/\nLet’s come together to make a difference — one sweet night at a time.\nWe can’t wait to see you there! \n\n
URL:https://cfbcradio.com/event/16546/
CATEGORIES:Charity Event,Community Events
END:VEVENT
END:VCALENDAR