BEGIN:VCALENDAR
VERSION:2.0
PRODID:-//CFBC - ECPv4.6.26//NONSGML v1.0//EN
CALSCALE:GREGORIAN
METHOD:PUBLISH
X-WR-CALNAME:CFBC
X-ORIGINAL-URL:https://cfbcradio.com
X-WR-CALDESC:Events for CFBC
BEGIN:VEVENT
DTSTART;TZID=America/Halifax:20181028T180000
DTEND;TZID=America/Halifax:20181028T210000
DTSTAMP:20260419T181736
CREATED:20181009T143131Z
LAST-MODIFIED:20181009T143131Z
UID:5022-1540749600-1540760400@cfbcradio.com
SUMMARY:Light Up The Lake 5K Run
DESCRIPTION:Light up the Lake walk/run 5K event at Lily Lake. Oct. 28th at 6pm. For all ages and abilities. Raising awareness and much needed funds for Pancreatic Cancer research. Come on out wear your purple. You can register for the event at www.events.runningroom.com \n
URL:https://cfbcradio.com/event/light-up-the-lake-5k-run/
LOCATION:Lily Lake
END:VEVENT
END:VCALENDAR