BEGIN:VCALENDAR
VERSION:2.0
PRODID:-//CFBC - ECPv4.6.26//NONSGML v1.0//EN
CALSCALE:GREGORIAN
METHOD:PUBLISH
X-WR-CALNAME:CFBC
X-ORIGINAL-URL:https://cfbcradio.com
X-WR-CALDESC:Events for CFBC
BEGIN:VEVENT
DTSTART;TZID=America/Halifax:20181111T100000
DTEND;TZID=America/Halifax:20181111T120000
DTSTAMP:20260421T103116
CREATED:20181101T130237Z
LAST-MODIFIED:20181101T130237Z
UID:5077-1541930400-1541937600@cfbcradio.com
SUMMARY:Remembrance Day Ceremony - Sussex
DESCRIPTION:Join the Town of Sussex in commemorating the 100th Anniversary of the end of the Great War (WW1). The Ceremony will take place at Saunders Irving Hall\, Kingswood University. \n
URL:https://cfbcradio.com/event/remembrance-day-ceremony-sussex/
LOCATION:Saunders Irving Hall\, Kingswood University
END:VEVENT
END:VCALENDAR